BEGIN:VCALENDAR
VERSION:2.0
PRODID:-//Cotswolds Designer Outlet - ECPv6.15.20//NONSGML v1.0//EN
CALSCALE:GREGORIAN
METHOD:PUBLISH
X-WR-CALNAME:Cotswolds Designer Outlet
X-ORIGINAL-URL:https://cotswold.dev.icgonline.co.uk
X-WR-CALDESC:Events for Cotswolds Designer Outlet
REFRESH-INTERVAL;VALUE=DURATION:PT1H
X-Robots-Tag:noindex
X-PUBLISHED-TTL:PT1H
BEGIN:VTIMEZONE
TZID:Europe/London
BEGIN:DAYLIGHT
TZOFFSETFROM:+0000
TZOFFSETTO:+0100
TZNAME:BST
DTSTART:20240331T010000
END:DAYLIGHT
BEGIN:STANDARD
TZOFFSETFROM:+0100
TZOFFSETTO:+0000
TZNAME:GMT
DTSTART:20241027T010000
END:STANDARD
BEGIN:DAYLIGHT
TZOFFSETFROM:+0000
TZOFFSETTO:+0100
TZNAME:BST
DTSTART:20250330T010000
END:DAYLIGHT
BEGIN:STANDARD
TZOFFSETFROM:+0100
TZOFFSETTO:+0000
TZNAME:GMT
DTSTART:20251026T010000
END:STANDARD
BEGIN:DAYLIGHT
TZOFFSETFROM:+0000
TZOFFSETTO:+0100
TZNAME:BST
DTSTART:20260329T010000
END:DAYLIGHT
BEGIN:STANDARD
TZOFFSETFROM:+0100
TZOFFSETTO:+0000
TZNAME:GMT
DTSTART:20261025T010000
END:STANDARD
END:VTIMEZONE
BEGIN:VEVENT
DTSTART;VALUE=DATE:20250816
DTEND;VALUE=DATE:20250817
DTSTAMP:20260421T034934
CREATED:20250812T102953Z
LAST-MODIFIED:20250812T103210Z
UID:10000037-1755349200-1755351900@cotswold.dev.icgonline.co.uk
SUMMARY:Join Us for Free Origami Workshops This Weekend!
DESCRIPTION:Bring your creativity and join us for a fun-filled origami workshop at Cotswolds Designer Outlet on Friday 15th and Saturday 16th August\, with sessions at 11:00 AM\, 1:00 PM\, and 3:00 PM each day. \n\nUnit 71 (Located next to Wagamama\, opposite Skopes)\nPerfect for kids aged 5+\nEach session runs for approx. 45 minutes\nChildren under 11 must be accompanied by a parent or guardian\nFree to attend – booking required\nLimited to 30 participants per session\n\nSpaces are limited\, so be sure to book your spot on Eventbrite to avoid missing out:👉 Reserve your place here \nUnfold your imagination – we can’t wait to see what you create!
URL:https://cotswold.dev.icgonline.co.uk/event/join-us-for-free-origami-workshops-this-weekend/2025-08-16/
LOCATION:Unit 71\, Cotswolds Designer Outlet\, Tewkesbury\, Gloucestershire\, GL20 7FY\, United Kingdom
ATTACH;FMTTYPE=image/jpeg:https://cotswold.dev.icgonline.co.uk/wp-content/uploads/2025/08/Origami.jpg
END:VEVENT
BEGIN:VEVENT
DTSTART;VALUE=DATE:20250815
DTEND;VALUE=DATE:20250816
DTSTAMP:20260421T034934
CREATED:20250812T102953Z
LAST-MODIFIED:20250812T103210Z
UID:10000036-1755216000-1755302399@cotswold.dev.icgonline.co.uk
SUMMARY:Join Us for Free Origami Workshops This Weekend!
DESCRIPTION:Bring your creativity and join us for a fun-filled origami workshop at Cotswolds Designer Outlet on Friday 15th and Saturday 16th August\, with sessions at 11:00 AM\, 1:00 PM\, and 3:00 PM each day. \n\nUnit 71 (Located next to Wagamama\, opposite Skopes)\nPerfect for kids aged 5+\nEach session runs for approx. 45 minutes\nChildren under 11 must be accompanied by a parent or guardian\nFree to attend – booking required\nLimited to 30 participants per session\n\nSpaces are limited\, so be sure to book your spot on Eventbrite to avoid missing out:👉 Reserve your place here \nUnfold your imagination – we can’t wait to see what you create!
URL:https://cotswold.dev.icgonline.co.uk/event/join-us-for-free-origami-workshops-this-weekend/2025-08-15/
LOCATION:Unit 71\, Cotswolds Designer Outlet\, Tewkesbury\, Gloucestershire\, GL20 7FY\, United Kingdom
ATTACH;FMTTYPE=image/jpeg:https://cotswold.dev.icgonline.co.uk/wp-content/uploads/2025/08/Origami.jpg
END:VEVENT
END:VCALENDAR